BEGIN:VCALENDAR
VERSION:2.0
PRODID:-//sgrrc//NONSGML kigkonsult.se iCalcreator 2.16.12//
METHOD:PUBLISH
X-MS-OLK-FORCEINSPECTOROPEN:TRUE
BEGIN:VEVENT
UID:20260421T104551CEST-246087vHgx@sgrrc
DTSTAMP:20260421T084551Z
DESCRIPTION:\n\nThis workshop (info here)\, organized by Young DGN and the 
 grpw e.V. Scientific Committee\, is a two-day event designed for early-car
 eer researchers.\n\nScheduled for June 12–13\, 2026\, at the LMU Klinikum 
 in Munich\, the program aims to equip participants with the essential know
 ledge and practical skills needed to navigate the entire process of third-
 party funding\, from the initial brainstorming phase to the final grant ap
 plication. Attendees will benefit from expert-led sessions on project plan
 ning and funding opportunities\, as well as networking opportunities with 
 experienced reviewers and peers. \n\nParticipation in the workshop is free
  of charge\, with accommodation at Hotel Neumayr and on-site catering prov
 ided by the organizers\, although participants must arrange their own trav
 el. Interested candidates must submit a one-page CV and a one-page motivat
 ion letter to scicom@grpw-ev.de during the application period\, which runs
  from February 4 to April 30\, 2026. Successful applicants will be notifie
 d by May 13\, 2026\, based on a selection process due to the limited numbe
 r of seats available.\n 
DTSTART:20260612T000000
DTEND:20260613T235900
LOCATION:LMU Klinikum München
ORGANIZER:MAILTO:sgrrc <info@sgrrc.ch>
SUMMARY:WORKSHOP Drittmittelanträge – vom Brainstorming zum fertigen Antrag
END:VEVENT
END:VCALENDAR
