BEGIN:VCALENDAR
VERSION:2.0
PRODID:-//sgrrc//NONSGML kigkonsult.se iCalcreator 2.16.12//
METHOD:PUBLISH
X-MS-OLK-FORCEINSPECTOROPEN:TRUE
BEGIN:VEVENT
UID:20260421T103401CEST-5416c9zCfa@sgrrc
DTSTAMP:20260421T083401Z
DESCRIPTION:https://congress.sgr-ssr.ch/\n\n\n\n\n
DTSTART:20260528T000000
DTEND:20260530T235900
LOCATION:Convention Center of the EPFL Lausanne
ORGANIZER:MAILTO:sgrrc <info@sgrrc.ch>
SUMMARY:SCR'26
END:VEVENT
END:VCALENDAR
