BEGIN:VCALENDAR
VERSION:2.0
PRODID:-//sgrrc//NONSGML kigkonsult.se iCalcreator 2.16.12//
METHOD:PUBLISH
X-MS-OLK-FORCEINSPECTOROPEN:TRUE
BEGIN:VEVENT
UID:20260421T120842CEST-0151oOegUx@sgrrc
DTSTAMP:20260421T100842Z
DESCRIPTION:\n\nTERACHEM 2026 (https://www.srsweb.org/terachem2026) is a sy
 mposium that will be held in Bressanone\, Italy from 23rd-26th of Septembe
 r 2026.\n\nIt is a focused symposium dedicated to radiometal-based chemist
 ry\, radiotheranostics\, and translational radionuclide science.\n\nThe sy
 mposium has a long tradition and is since several years held under the umb
 rella of SRS (https://www.srsweb.org/).\n\nThe meeting will bring together
  experts from academia\, clinical translation\, and industry to discuss ne
 xt-generation radionuclides\, labeling strategies\, and theranostic concep
 ts.\n\nThere is a pre-symposium summer school (https://www.srsweb.org/tera
 chem2026-summer-school) for PhD and young postdocs. The abstract submissio
 n is now open and will be closed March 31st 2026 (https://www.srsweb.org/t
 erachem2026-abstract).\n\nTERACHEM brings together leaders and emerging re
 searchers in radiochemistry and radiopharmaceutical science for focused sc
 ientific exchange and collaboration.\nThis year's gathering includes cutti
 ng-edge topics on:\n\n1 - Radionuclide Production & Targetry \n\nChemistry
  of Technetium\, Rhenium and Other Radiometals in Medicine \nChemistry of 
 Other Radiometals & Ligand Design \nPreclinical Development of Metal Based
  Radiopharmaceuticals & Radiopharmacology \nTranslational Radiotherapy and
  Radiotheragnostics \nRadiopharmaceuticals Labeled with Technetium-99m and
  Other Radiometals\n\n2- AI in Radiochemistry \n 
DTSTART:20260923T000000
DTEND:20260926T235900
LOCATION:Bressanone
ORGANIZER:MAILTO:sgrrc <info@sgrrc.ch>
SUMMARY:TERACHEM 2026
END:VEVENT
END:VCALENDAR
