BEGIN:VCALENDAR
VERSION:2.0
PRODID:-//sgrrc//NONSGML kigkonsult.se iCalcreator 2.16.12//
METHOD:PUBLISH
X-MS-OLK-FORCEINSPECTOROPEN:TRUE
BEGIN:VEVENT
UID:20260421T173147CEST-49732T09VX@sgrrc
DTSTAMP:20260421T153147Z
DESCRIPTION:\n	\n		\n			 \n		\n		\n			\n			\n			\n			 \n\n			Registration is closed. Maximum number 
 of participants is reached. \n\n			We are looking forward to seeing you at th
 e event!\n\n			Please find the program here and the abstracts here.\n			\n			Please
  use the button below to register and the then directly pay your registrat
 ion fee\, by indicating your name in payment details and using the payslip
  provided here: Download Payslip\n\n			Registration fee 80.- CHF for members\
 ; 100.- CHF for non-members \n\n			\n			Your registration will only be valid onc
 e you paid the registration fee. \n			 \n\n			Information for sponsors: Sponsors
  will have the opportunity to advertise their company and products in a 3‐
 minute video\, which will be shown to the attendees in the main sessions b
 efore the breaks. Please consult the sponsoring information for details. 
 \n\n			We are looking forward to seeing you!\n			SGRRC Committee\n\n			 \n			\n		\n	\n\n
 \n \n
DTSTART:20260311T000000
DTEND:20260311T235900
LOCATION:FOPH Bern
ORGANIZER:MAILTO:sgrrc <info@sgrrc.ch>
SUMMARY:Swiss Radiopharmacy Day 2026\, 11th of March 2026
END:VEVENT
END:VCALENDAR
