BEGIN:VCALENDAR
VERSION:2.0
PRODID:-//sgrrc//NONSGML kigkonsult.se iCalcreator 2.16.12//
METHOD:PUBLISH
X-MS-OLK-FORCEINSPECTOROPEN:TRUE
BEGIN:VEVENT
UID:20260421T120353CEST-2532tcBCSu@sgrrc
DTSTAMP:20260421T100353Z
DESCRIPTION:The cours Module MA3 Radiation protection for Nuclear Physician
 s - FMH - Module II will take place between the 08.06.-12.06.2026 at IRA-C
 HUV Lausanne. \n\nPlease go on the IRA Webpage to find more information. 
 \n\nYou can register using the following link: \n\nMA3 - Institut de radio
 physique - CHUV
DTSTART:20260608T000000
DTEND:20260612T235900
LOCATION:Institute of Radiation Physics
ORGANIZER:MAILTO:sgrrc <info@sgrrc.ch>
SUMMARY:MA3 Radiation protection for Nuclear Physicians - FMH - Module II
END:VEVENT
END:VCALENDAR
