BEGIN:VCALENDAR
VERSION:2.0
PRODID:-//sgrrc//NONSGML kigkonsult.se iCalcreator 2.16.12//
METHOD:PUBLISH
X-MS-OLK-FORCEINSPECTOROPEN:TRUE
BEGIN:VEVENT
UID:20260425T153154CEST-0083PBVuEx@sgrrc
DTSTAMP:20260425T133154Z
DESCRIPTION:The cours Module FMH II will take place between the 13th to 17t
 h of May 2024. \n\nYou can register using the following link: \n\nMA3 - In
 stitut de radiophysique - CHUV
DTSTART:20240513T000000
DTEND:20240517T235900
LOCATION:Institute of Radiation Physics
ORGANIZER:MAILTO:sgrrc <info@sgrrc.ch>
SUMMARY:Radioprotection pour les médecins nucléaires - FMH - Module II
END:VEVENT
END:VCALENDAR
