BEGIN:VCALENDAR
VERSION:2.0
PRODID:-//sgrrc//NONSGML kigkonsult.se iCalcreator 2.16.12//
METHOD:PUBLISH
X-MS-OLK-FORCEINSPECTOROPEN:TRUE
BEGIN:VEVENT
UID:20260421T120502CEST-5046B6cbAl@sgrrc
DTSTAMP:20260421T100502Z
DESCRIPTION:FMH Modul III am PSI\nDer Kurs findet vom 17.11.-18.11.2026 sta
 tt. Bitte benutzen Sie das folgende Anmeldeformular\, um sich zu registrie
 ren. \n\nAnmeldeformular\n\nBei Fragen können Sie sich direkt an Sandha Ke
 ller wenden. \n\nsandha.keller@psi.ch\n 
DTSTART:20261117T000000
DTEND:20261118T235900
LOCATION:Paul Scherrer Institut/ETH
ORGANIZER:MAILTO:sgrrc <info@sgrrc.ch>
SUMMARY:FMH Modul III für Nuklearmediziner/innen
END:VEVENT
END:VCALENDAR
